BEGIN:VCALENDAR
VERSION:2.0
PRODID:-//Food Trade News &amp; Food World - ECPv6.15.18//NONSGML v1.0//EN
CALSCALE:GREGORIAN
METHOD:PUBLISH
X-WR-CALNAME:Food Trade News &amp; Food World
X-ORIGINAL-URL:https://foodtradenews.com
X-WR-CALDESC:Events for Food Trade News &amp; Food World
REFRESH-INTERVAL;VALUE=DURATION:PT1H
X-Robots-Tag:noindex
X-PUBLISHED-TTL:PT1H
BEGIN:VTIMEZONE
TZID:UTC
BEGIN:STANDARD
TZOFFSETFROM:+0000
TZOFFSETTO:+0000
TZNAME:UTC
DTSTART:20180101T000000
END:STANDARD
END:VTIMEZONE
BEGIN:VEVENT
DTSTART;VALUE=DATE:20190328
DTEND;VALUE=DATE:20190329
DTSTAMP:20260420T195736
CREATED:20190306T180059Z
LAST-MODIFIED:20190306T180059Z
UID:570033-1553731200-1553817599@foodtradenews.com
SUMMARY:Mid-Atlantic NEW Networking Event
DESCRIPTION:
URL:https://foodtradenews.com/event/mid-atlantic-new-networking-event/
LOCATION:The Winery At Olney\, 18127 Town Center Dr.\, Olney\, 20832\, United States
END:VEVENT
BEGIN:VEVENT
DTSTART;TZID=UTC:20190328T080000
DTEND;TZID=UTC:20190328T170000
DTSTAMP:20260420T195736
CREATED:20190306T175852Z
LAST-MODIFIED:20190306T175852Z
UID:570032-1553760000-1553792400@foodtradenews.com
SUMMARY:NJFC Night of Distinction
DESCRIPTION:
URL:https://foodtradenews.com/event/njfc-night-of-distinction/
LOCATION:Palace At Somerset\, 333 Davidson\, Somerset\, NJ\, 08873\, United States
END:VEVENT
END:VCALENDAR