BEGIN:VCALENDAR
VERSION:2.0
PRODID:-//Food Trade News &amp; Food World - ECPv6.15.18//NONSGML v1.0//EN
CALSCALE:GREGORIAN
METHOD:PUBLISH
X-WR-CALNAME:Food Trade News &amp; Food World
X-ORIGINAL-URL:https://foodtradenews.com
X-WR-CALDESC:Events for Food Trade News &amp; Food World
REFRESH-INTERVAL;VALUE=DURATION:PT1H
X-Robots-Tag:noindex
X-PUBLISHED-TTL:PT1H
BEGIN:VTIMEZONE
TZID:UTC
BEGIN:STANDARD
TZOFFSETFROM:+0000
TZOFFSETTO:+0000
TZNAME:UTC
DTSTART:20180101T000000
END:STANDARD
END:VTIMEZONE
BEGIN:VEVENT
DTSTART;VALUE=DATE:20190411
DTEND;VALUE=DATE:20190412
DTSTAMP:20260420T175851
CREATED:20190306T181004Z
LAST-MODIFIED:20190306T181004Z
UID:570035-1554940800-1555027199@foodtradenews.com
SUMMARY:FIA Metro Reception
DESCRIPTION:There is no charge for FIA members to attend. \nThe Tappan Hill Mansion is located on the former estate of Mark Twain in the scenic Hudson Valley. Just 45 minutes from midtown Manhattan\, the Mansion is easily accessible from the entire tri-state area. With a beautiful view of the Hudson\, this event will offer a two hour upscale reception to mix networking into a picturesque social setting. Historically many of the attendees are retailers\, wholesalers and supplier members from the Metro region. Attendees also come from Upstate\, Connecticut\, Massachusetts\, Pennsylvania\, and other neighboring states. Attendance is strong and the quality of company representation is outstanding. Besides the trade relations value of this reception\, FIA’s President & CEO will take a few moments to update the attendees on the latest happenings within NYS government affecting the grocery industry. \n(GPS address: 200 Gunpowder Lane\, Tarrytown\, NY 10591)
URL:https://foodtradenews.com/event/fia-metro-reception/
LOCATION:Tappan Hill Mansion\, 81 Highland Ave.\, Tarrytown\, NY\, 10591\, United States
ORGANIZER;CN="Food Industry Alliance of New York State":MAILTO:laura@fiany.com
END:VEVENT
END:VCALENDAR