BEGIN:VCALENDAR
VERSION:2.0
PRODID:-//Food Trade News &amp; Food World - ECPv6.15.18//NONSGML v1.0//EN
CALSCALE:GREGORIAN
METHOD:PUBLISH
X-ORIGINAL-URL:https://foodtradenews.com
X-WR-CALDESC:Events for Food Trade News &amp; Food World
REFRESH-INTERVAL;VALUE=DURATION:PT1H
X-Robots-Tag:noindex
X-PUBLISHED-TTL:PT1H
BEGIN:VTIMEZONE
TZID:UTC
BEGIN:STANDARD
TZOFFSETFROM:+0000
TZOFFSETTO:+0000
TZNAME:UTC
DTSTART:20180101T000000
END:STANDARD
END:VTIMEZONE
BEGIN:VEVENT
DTSTART;TZID=UTC:20190424T150000
DTEND;TZID=UTC:20190424T180000
DTSTAMP:20260420T180024
CREATED:20190306T182520Z
LAST-MODIFIED:20190306T182520Z
UID:570036-1556118000-1556128800@foodtradenews.com
SUMMARY:NEW Greater Philadelphia
DESCRIPTION:
URL:https://foodtradenews.com/event/new-greater-philadelphia-2/
LOCATION:St. Joseph’s University\, 5600 City Ave.\, Philadelphia\, PA\, 19131\, United States
END:VEVENT
END:VCALENDAR