BEGIN:VCALENDAR
VERSION:2.0
PRODID:-//Food Trade News &amp; Food World - ECPv6.15.18//NONSGML v1.0//EN
CALSCALE:GREGORIAN
METHOD:PUBLISH
X-ORIGINAL-URL:https://foodtradenews.com
X-WR-CALDESC:Events for Food Trade News &amp; Food World
REFRESH-INTERVAL;VALUE=DURATION:PT1H
X-Robots-Tag:noindex
X-PUBLISHED-TTL:PT1H
BEGIN:VTIMEZONE
TZID:America/New_York
BEGIN:DAYLIGHT
TZOFFSETFROM:-0500
TZOFFSETTO:-0400
TZNAME:EDT
DTSTART:20180311T070000
END:DAYLIGHT
BEGIN:STANDARD
TZOFFSETFROM:-0400
TZOFFSETTO:-0500
TZNAME:EST
DTSTART:20181104T060000
END:STANDARD
BEGIN:DAYLIGHT
TZOFFSETFROM:-0500
TZOFFSETTO:-0400
TZNAME:EDT
DTSTART:20190310T070000
END:DAYLIGHT
BEGIN:STANDARD
TZOFFSETFROM:-0400
TZOFFSETTO:-0500
TZNAME:EST
DTSTART:20191103T060000
END:STANDARD
BEGIN:DAYLIGHT
TZOFFSETFROM:-0500
TZOFFSETTO:-0400
TZNAME:EDT
DTSTART:20200308T070000
END:DAYLIGHT
BEGIN:STANDARD
TZOFFSETFROM:-0400
TZOFFSETTO:-0500
TZNAME:EST
DTSTART:20201101T060000
END:STANDARD
END:VTIMEZONE
BEGIN:VEVENT
DTSTART;VALUE=DATE:20190623
DTEND;VALUE=DATE:20190626
DTSTAMP:20260420T133927
CREATED:20190430T194742Z
LAST-MODIFIED:20190430T194742Z
UID:570041-1561248000-1561507199@foodtradenews.com
SUMMARY:Summer Fancy Food Show
DESCRIPTION:
URL:https://foodtradenews.com/event/summer-fancy-food-show/
LOCATION:Jacob K. Javits Convention Center\, 655 W 34th St\, New York\, NY\, 10001
END:VEVENT
BEGIN:VEVENT
DTSTART;VALUE=DATE:20190624
DTEND;VALUE=DATE:20190625
DTSTAMP:20260420T133927
CREATED:20190430T211629Z
LAST-MODIFIED:20190430T211629Z
UID:570049-1561334400-1561420799@foodtradenews.com
SUMMARY:The FIA Jack Duffy Golf Classic
DESCRIPTION:
URL:https://foodtradenews.com/event/the-fia-jack-duffy-golf-classic/
LOCATION:Scarsdale Golf Club\, 1 Club Way\, Hartsdale\, NY\, 10530
ORGANIZER;CN="Food Industry Alliance of New York State":MAILTO:laura@fiany.com
END:VEVENT
END:VCALENDAR