BEGIN:VCALENDAR
VERSION:2.0
PRODID:-//Food Trade News &amp; Food World - ECPv6.15.18//NONSGML v1.0//EN
CALSCALE:GREGORIAN
METHOD:PUBLISH
X-ORIGINAL-URL:https://foodtradenews.com
X-WR-CALDESC:Events for Food Trade News &amp; Food World
REFRESH-INTERVAL;VALUE=DURATION:PT1H
X-Robots-Tag:noindex
X-PUBLISHED-TTL:PT1H
BEGIN:VTIMEZONE
TZID:America/New_York
BEGIN:DAYLIGHT
TZOFFSETFROM:-0500
TZOFFSETTO:-0400
TZNAME:EDT
DTSTART:20180311T070000
END:DAYLIGHT
BEGIN:STANDARD
TZOFFSETFROM:-0400
TZOFFSETTO:-0500
TZNAME:EST
DTSTART:20181104T060000
END:STANDARD
BEGIN:DAYLIGHT
TZOFFSETFROM:-0500
TZOFFSETTO:-0400
TZNAME:EDT
DTSTART:20190310T070000
END:DAYLIGHT
BEGIN:STANDARD
TZOFFSETFROM:-0400
TZOFFSETTO:-0500
TZNAME:EST
DTSTART:20191103T060000
END:STANDARD
BEGIN:DAYLIGHT
TZOFFSETFROM:-0500
TZOFFSETTO:-0400
TZNAME:EDT
DTSTART:20200308T070000
END:DAYLIGHT
BEGIN:STANDARD
TZOFFSETFROM:-0400
TZOFFSETTO:-0500
TZNAME:EST
DTSTART:20201101T060000
END:STANDARD
END:VTIMEZONE
BEGIN:VEVENT
DTSTART;VALUE=DATE:20190821
DTEND;VALUE=DATE:20190822
DTSTAMP:20260420T114114
CREATED:20190430T213808Z
LAST-MODIFIED:20190430T213808Z
UID:570054-1566345600-1566431999@foodtradenews.com
SUMMARY:Key Food Fall Selling Show
DESCRIPTION:
URL:https://foodtradenews.com/event/key-food-fall-selling-show/
LOCATION:Nassau Veterans Memorial Coliseum\, 1255 Hempstead Turnpike\, Uniondale\, NY\, 11553
END:VEVENT
BEGIN:VEVENT
DTSTART;VALUE=DATE:20190821
DTEND;VALUE=DATE:20190823
DTSTAMP:20260420T114114
CREATED:20190523T213037Z
LAST-MODIFIED:20190523T213037Z
UID:570066-1566345600-1566518399@foodtradenews.com
SUMMARY:C&S New England Fall Food Show
DESCRIPTION:
URL:https://foodtradenews.com/event/cs-new-england-fall-food-show/
LOCATION:Foxwoods Resort Casino\, 350 Trolley Line Blvd\, Mashantucket\, CT\, 06338
END:VEVENT
BEGIN:VEVENT
DTSTART;TZID=America/New_York:20190821T170000
DTEND;TZID=America/New_York:20190821T203000
DTSTAMP:20260420T114114
CREATED:20190718T214643Z
LAST-MODIFIED:20190718T214643Z
UID:570072-1566406800-1566419400@foodtradenews.com
SUMMARY:Network of Executive Women Mid-Atlantic Crabaoke Mixer
DESCRIPTION:The Mid-Atlantic Network of Executive Women will host it’s annual Crabaoke mixer – an event featuring a crab feast and karaoke in a beautiful outdoor setting.
URL:https://foodtradenews.com/event/network-of-executive-women-mid-atlantic-crabaoke-mixer/
LOCATION:Kurtz’s Beach\, 2070 Kurtz Ave\, Pasadena\, MD\, 21122
END:VEVENT
END:VCALENDAR