BEGIN:VCALENDAR
VERSION:2.0
PRODID:-//Food Trade News &amp; Food World - ECPv6.15.18//NONSGML v1.0//EN
CALSCALE:GREGORIAN
METHOD:PUBLISH
X-WR-CALNAME:Food Trade News &amp; Food World
X-ORIGINAL-URL:https://foodtradenews.com
X-WR-CALDESC:Events for Food Trade News &amp; Food World
REFRESH-INTERVAL;VALUE=DURATION:PT1H
X-Robots-Tag:noindex
X-PUBLISHED-TTL:PT1H
BEGIN:VTIMEZONE
TZID:America/New_York
BEGIN:DAYLIGHT
TZOFFSETFROM:-0500
TZOFFSETTO:-0400
TZNAME:EDT
DTSTART:20180311T070000
END:DAYLIGHT
BEGIN:STANDARD
TZOFFSETFROM:-0400
TZOFFSETTO:-0500
TZNAME:EST
DTSTART:20181104T060000
END:STANDARD
BEGIN:DAYLIGHT
TZOFFSETFROM:-0500
TZOFFSETTO:-0400
TZNAME:EDT
DTSTART:20190310T070000
END:DAYLIGHT
BEGIN:STANDARD
TZOFFSETFROM:-0400
TZOFFSETTO:-0500
TZNAME:EST
DTSTART:20191103T060000
END:STANDARD
BEGIN:DAYLIGHT
TZOFFSETFROM:-0500
TZOFFSETTO:-0400
TZNAME:EDT
DTSTART:20200308T070000
END:DAYLIGHT
BEGIN:STANDARD
TZOFFSETFROM:-0400
TZOFFSETTO:-0500
TZNAME:EST
DTSTART:20201101T060000
END:STANDARD
END:VTIMEZONE
BEGIN:VEVENT
DTSTART;VALUE=DATE:20190911
DTEND;VALUE=DATE:20190912
DTSTAMP:20260420T084032
CREATED:20190829T001220Z
LAST-MODIFIED:20190829T001220Z
UID:570089-1568160000-1568246399@foodtradenews.com
SUMMARY:Klein's Shoprite 10th Annual Charity Golf Outing
DESCRIPTION:Registration starts at 9:30am\, brunch at 10:30am with a shotgun start at 11:30am. Post golfing cocktails begin at 4:30pm with the banquet featuring awards and prizes commencing at 5:30pm.
URL:https://foodtradenews.com/event/kleins-shoprite-10th-annual-charity-golf-outing/
LOCATION:Bulle Rock Golf Course\, 320 Bleinheim Lane\, Havre de Grace\, MD\, 21078\, United States
ORGANIZER;CN="Michael Klein":MAILTO:michael.klein@wakefern.com
END:VEVENT
BEGIN:VEVENT
DTSTART;VALUE=DATE:20190911
DTEND;VALUE=DATE:20190915
DTSTAMP:20260420T084032
CREATED:20190430T195915Z
LAST-MODIFIED:20190430T195915Z
UID:570044-1568160000-1568505599@foodtradenews.com
SUMMARY:Natural Products Expo East
DESCRIPTION:
URL:https://foodtradenews.com/event/natural-products-expo-east/
LOCATION:Baltimore Convention Center\, 1 W Pratt St\, Baltimore\, MD\, 21201
END:VEVENT
END:VCALENDAR