BEGIN:VCALENDAR
VERSION:2.0
PRODID:-//Food Trade News &amp; Food World - ECPv6.15.18//NONSGML v1.0//EN
CALSCALE:GREGORIAN
METHOD:PUBLISH
X-WR-CALNAME:Food Trade News &amp; Food World
X-ORIGINAL-URL:https://foodtradenews.com
X-WR-CALDESC:Events for Food Trade News &amp; Food World
REFRESH-INTERVAL;VALUE=DURATION:PT1H
X-Robots-Tag:noindex
X-PUBLISHED-TTL:PT1H
BEGIN:VTIMEZONE
TZID:America/New_York
BEGIN:DAYLIGHT
TZOFFSETFROM:-0500
TZOFFSETTO:-0400
TZNAME:EDT
DTSTART:20180311T070000
END:DAYLIGHT
BEGIN:STANDARD
TZOFFSETFROM:-0400
TZOFFSETTO:-0500
TZNAME:EST
DTSTART:20181104T060000
END:STANDARD
BEGIN:DAYLIGHT
TZOFFSETFROM:-0500
TZOFFSETTO:-0400
TZNAME:EDT
DTSTART:20190310T070000
END:DAYLIGHT
BEGIN:STANDARD
TZOFFSETFROM:-0400
TZOFFSETTO:-0500
TZNAME:EST
DTSTART:20191103T060000
END:STANDARD
BEGIN:DAYLIGHT
TZOFFSETFROM:-0500
TZOFFSETTO:-0400
TZNAME:EDT
DTSTART:20200308T070000
END:DAYLIGHT
BEGIN:STANDARD
TZOFFSETFROM:-0400
TZOFFSETTO:-0500
TZNAME:EST
DTSTART:20201101T060000
END:STANDARD
END:VTIMEZONE
BEGIN:VEVENT
DTSTART;VALUE=DATE:20190923
DTEND;VALUE=DATE:20190924
DTSTAMP:20260420T084034
CREATED:20190603T234433Z
LAST-MODIFIED:20190603T234433Z
UID:570069-1569196800-1569283199@foodtradenews.com
SUMMARY:Rothwell Family Golf Classic Benefiting Advancing Opportunities
DESCRIPTION:12:30pm shotgun start with dinner and cocktails afterwards.
URL:https://foodtradenews.com/event/rothwell-family-golf-classic-benefiting-advancing-opportunities/
LOCATION:Cherry Valley Country Club\, 125 Country Club Drive\, Skillman\, NJ\, 08558
END:VEVENT
BEGIN:VEVENT
DTSTART;VALUE=DATE:20190923
DTEND;VALUE=DATE:20190924
DTSTAMP:20260420T084034
CREATED:20190816T005625Z
LAST-MODIFIED:20190816T005625Z
UID:570081-1569196800-1569283199@foodtradenews.com
SUMMARY:Mazars Food & Beverage Forum
DESCRIPTION:
URL:https://foodtradenews.com/event/mazars-food-beverage-forum/
LOCATION:Kimpton Hotel Eventi\, 851 6th Ave\, New York\, 10001\, United States
ORGANIZER;CN="Mazars":MAILTO:teresa.hanson@mazarsusa.com
END:VEVENT
BEGIN:VEVENT
DTSTART;VALUE=DATE:20190923
DTEND;VALUE=DATE:20190924
DTSTAMP:20260420T084034
CREATED:20190819T194054Z
LAST-MODIFIED:20190819T194054Z
UID:570082-1569196800-1569283199@foodtradenews.com
SUMMARY:Allegiance Retail Services 7th Annual Golf Outing
DESCRIPTION:
URL:https://foodtradenews.com/event/allegiance-retail-services-7th-annual-golf-outing/
LOCATION:Upper Montclair Country Club\, 177 Hepburn Rd\, Clifton\, NJ\, 07012\, United States
END:VEVENT
END:VCALENDAR