BEGIN:VCALENDAR
VERSION:2.0
PRODID:-//Food Trade News &amp; Food World - ECPv6.15.18//NONSGML v1.0//EN
CALSCALE:GREGORIAN
METHOD:PUBLISH
X-ORIGINAL-URL:https://foodtradenews.com
X-WR-CALDESC:Events for Food Trade News &amp; Food World
REFRESH-INTERVAL;VALUE=DURATION:PT1H
X-Robots-Tag:noindex
X-PUBLISHED-TTL:PT1H
BEGIN:VTIMEZONE
TZID:America/New_York
BEGIN:DAYLIGHT
TZOFFSETFROM:-0500
TZOFFSETTO:-0400
TZNAME:EDT
DTSTART:20180311T070000
END:DAYLIGHT
BEGIN:STANDARD
TZOFFSETFROM:-0400
TZOFFSETTO:-0500
TZNAME:EST
DTSTART:20181104T060000
END:STANDARD
BEGIN:DAYLIGHT
TZOFFSETFROM:-0500
TZOFFSETTO:-0400
TZNAME:EDT
DTSTART:20190310T070000
END:DAYLIGHT
BEGIN:STANDARD
TZOFFSETFROM:-0400
TZOFFSETTO:-0500
TZNAME:EST
DTSTART:20191103T060000
END:STANDARD
BEGIN:DAYLIGHT
TZOFFSETFROM:-0500
TZOFFSETTO:-0400
TZNAME:EDT
DTSTART:20200308T070000
END:DAYLIGHT
BEGIN:STANDARD
TZOFFSETFROM:-0400
TZOFFSETTO:-0500
TZNAME:EST
DTSTART:20201101T060000
END:STANDARD
END:VTIMEZONE
BEGIN:VEVENT
DTSTART;VALUE=DATE:20191001
DTEND;VALUE=DATE:20191003
DTSTAMP:20260420T102521
CREATED:20190523T213328Z
LAST-MODIFIED:20190523T213328Z
UID:570067-1569888000-1570060799@foodtradenews.com
SUMMARY:C&S Services Expo
DESCRIPTION:
URL:https://foodtradenews.com/event/cs-services-expo/
LOCATION:Valley Forge Casino Resort\, 1160 1st Ave\, King of Prussia\, PA\, 19406
END:VEVENT
BEGIN:VEVENT
DTSTART;TZID=America/New_York:20191002T083000
DTEND;TZID=America/New_York:20191002T103000
DTSTAMP:20260420T102521
CREATED:20190501T004845Z
LAST-MODIFIED:20190501T004845Z
UID:570057-1570005000-1570012200@foodtradenews.com
SUMMARY:NJFC Good Governance Breakfast
DESCRIPTION:The New Jersey Food Council will host its annual Good Government breakfast where attendees will break bread with state legislators and business leaders for the presentation of the Good Government and Outstanding Legislator of the Year awards. \n 
URL:https://foodtradenews.com/event/njfc-good-governance-breakfast/
LOCATION:Forsgate Country Club\, 375 Forsgate Dr\, Monroe Township\, NJ\, 08831
END:VEVENT
BEGIN:VEVENT
DTSTART;TZID=America/New_York:20191002T180000
DTEND;TZID=America/New_York:20191002T220000
DTSTAMP:20260420T102521
CREATED:20190501T005749Z
LAST-MODIFIED:20190501T005749Z
UID:570058-1570039200-1570053600@foodtradenews.com
SUMMARY:EPC Dinner: Idaho Potato Commission & Avocados from Mexico
DESCRIPTION:The Eastern Produce Council will host a dinner sponsored by Idaho Potato Commission and Avocados from Mexico. Cocktail hour begins at 6:00 p.m. followed by dinner at 7:00 p.m.
URL:https://foodtradenews.com/event/epc-dinner-idaho-potato-commission-avocados-from-mexico/
LOCATION:MetLife Stadium\, 1 MetLife Stadium Dr\, East Rutherford\, NJ\, 07073
ORGANIZER;CN="Eastern Produce Council":MAILTO:info@easternproducecouncil.com
END:VEVENT
END:VCALENDAR