BEGIN:VCALENDAR
VERSION:2.0
PRODID:-//Food Trade News &amp; Food World - ECPv6.15.18//NONSGML v1.0//EN
CALSCALE:GREGORIAN
METHOD:PUBLISH
X-WR-CALNAME:Food Trade News &amp; Food World
X-ORIGINAL-URL:https://foodtradenews.com
X-WR-CALDESC:Events for Food Trade News &amp; Food World
REFRESH-INTERVAL;VALUE=DURATION:PT1H
X-Robots-Tag:noindex
X-PUBLISHED-TTL:PT1H
BEGIN:VTIMEZONE
TZID:America/New_York
BEGIN:DAYLIGHT
TZOFFSETFROM:-0500
TZOFFSETTO:-0400
TZNAME:EDT
DTSTART:20180311T070000
END:DAYLIGHT
BEGIN:STANDARD
TZOFFSETFROM:-0400
TZOFFSETTO:-0500
TZNAME:EST
DTSTART:20181104T060000
END:STANDARD
BEGIN:DAYLIGHT
TZOFFSETFROM:-0500
TZOFFSETTO:-0400
TZNAME:EDT
DTSTART:20190310T070000
END:DAYLIGHT
BEGIN:STANDARD
TZOFFSETFROM:-0400
TZOFFSETTO:-0500
TZNAME:EST
DTSTART:20191103T060000
END:STANDARD
BEGIN:DAYLIGHT
TZOFFSETFROM:-0500
TZOFFSETTO:-0400
TZNAME:EDT
DTSTART:20200308T070000
END:DAYLIGHT
BEGIN:STANDARD
TZOFFSETFROM:-0400
TZOFFSETTO:-0500
TZNAME:EST
DTSTART:20201101T060000
END:STANDARD
END:VTIMEZONE
BEGIN:VEVENT
DTSTART;TZID=America/New_York:20191102T190000
DTEND;TZID=America/New_York:20191102T230000
DTSTAMP:20260420T050953
CREATED:20191004T005811Z
LAST-MODIFIED:20191004T005811Z
UID:570097-1572721200-1572735600@foodtradenews.com
SUMMARY:The Children's Cancer Foundation 35th Annual Gala
DESCRIPTION:“The CCF Awards: Honoring Extraordinary Families” featuring the 2019 CCF Research Grant Recipients and this year’s Fighter Award and Hero Award. \nBlack Tie Optional.
URL:https://foodtradenews.com/event/the-childrens-cancer-foundation-35th-annual-gala/
LOCATION:Martin’s Crosswinds\, 7400 Greenway Center Drive\, Greenbelt\, MD\, 20770\, United States
END:VEVENT
END:VCALENDAR