BEGIN:VCALENDAR
VERSION:2.0
PRODID:-//Food Trade News &amp; Food World - ECPv6.15.10//NONSGML v1.0//EN
CALSCALE:GREGORIAN
METHOD:PUBLISH
X-WR-CALNAME:Food Trade News &amp; Food World
X-ORIGINAL-URL:https://foodtradenews.com
X-WR-CALDESC:Events for Food Trade News &amp; Food World
REFRESH-INTERVAL;VALUE=DURATION:PT1H
X-Robots-Tag:noindex
X-PUBLISHED-TTL:PT1H
BEGIN:VTIMEZONE
TZID:America/New_York
BEGIN:DAYLIGHT
TZOFFSETFROM:-0500
TZOFFSETTO:-0400
TZNAME:EDT
DTSTART:20250309T070000
END:DAYLIGHT
BEGIN:STANDARD
TZOFFSETFROM:-0400
TZOFFSETTO:-0500
TZNAME:EST
DTSTART:20251102T060000
END:STANDARD
BEGIN:DAYLIGHT
TZOFFSETFROM:-0500
TZOFFSETTO:-0400
TZNAME:EDT
DTSTART:20260308T070000
END:DAYLIGHT
BEGIN:STANDARD
TZOFFSETFROM:-0400
TZOFFSETTO:-0500
TZNAME:EST
DTSTART:20261101T060000
END:STANDARD
BEGIN:DAYLIGHT
TZOFFSETFROM:-0500
TZOFFSETTO:-0400
TZNAME:EDT
DTSTART:20270314T070000
END:DAYLIGHT
BEGIN:STANDARD
TZOFFSETFROM:-0400
TZOFFSETTO:-0500
TZNAME:EST
DTSTART:20271107T060000
END:STANDARD
END:VTIMEZONE
BEGIN:VEVENT
DTSTART;TZID=America/New_York:20260504T080000
DTEND;TZID=America/New_York:20260504T170000
DTSTAMP:20260424T042002
CREATED:20250825T195657Z
LAST-MODIFIED:20250825T195657Z
UID:573662-1777881600-1777914000@foodtradenews.com
SUMMARY:MAFTO 2026 Golf Outing
DESCRIPTION:
URL:https://foodtradenews.com/event/mafto-2026-golf-outing/
LOCATION:Commonwealth National Country Club\, 250 Babylon Rd\, Horsham\, 19044\, United States
END:VEVENT
BEGIN:VEVENT
DTSTART;TZID=America/New_York:20260504T080000
DTEND;TZID=America/New_York:20260504T170000
DTSTAMP:20260424T042002
CREATED:20260227T183230Z
LAST-MODIFIED:20260227T183337Z
UID:575326-1777881600-1777914000@foodtradenews.com
SUMMARY:National Supermarket Association Golf Classic
DESCRIPTION:
URL:https://foodtradenews.com/event/national-supermarket-association-golf-classic/
LOCATION:North Hills Country Club\, 200 Long Island Expressway N. Service Road\, Manhasset\, NY\, 11030\, United States
ORGANIZER;CN="National Supermarket Association":MAILTO:denise.diaz@nsaglobal.org
END:VEVENT
BEGIN:VEVENT
DTSTART;TZID=America/New_York:20260512T080000
DTEND;TZID=America/New_York:20260512T170000
DTSTAMP:20260424T042002
CREATED:20260420T144820Z
LAST-MODIFIED:20260420T144820Z
UID:575745-1778572800-1778605200@foodtradenews.com
SUMMARY:27th Annual Food Industry Alliance of NY State (FIANY) Jack Duffy Golf Outing
DESCRIPTION:For more information email Laura Mastriani at laura@fiany.com
URL:https://foodtradenews.com/event/27th-annual-food-industry-alliance-of-ny-state-fiany-jack-duffy-golf-outing/
LOCATION:Westchester Hills Golf Club\, 410 Ridgeway\, White PLains\, NY\, 10605\, United States
ORGANIZER;CN="Food Industry Alliance of New York State":MAILTO:laura@fiany.com
END:VEVENT
BEGIN:VEVENT
DTSTART;TZID=America/New_York:20260512T090000
DTEND;TZID=America/New_York:20260513T140000
DTSTAMP:20260424T042002
CREATED:20260408T202117Z
LAST-MODIFIED:20260408T202117Z
UID:575680-1778576400-1778680800@foodtradenews.com
SUMMARY:PFMA Annual Conference 2026
DESCRIPTION:The Pennsylvania Food Merchants Association (PFMA) will host its 2026 Annual Conference on May 12–13\, 2026\, at Omni Bedford Springs Resort\, bringing together leaders from across the food and beverage industry for two days of education\, networking\, and industry discussion.
URL:https://foodtradenews.com/event/pfma-annual-conference-2026/
LOCATION:Omni Bedford Springs Resort\, 2138 Business 229\, Bedford\, PA\, 15522\, United States
END:VEVENT
BEGIN:VEVENT
DTSTART;TZID=America/New_York:20260514T173000
DTEND;TZID=America/New_York:20260514T230000
DTSTAMP:20260424T042002
CREATED:20260227T182929Z
LAST-MODIFIED:20260227T182929Z
UID:575322-1778779800-1778799600@foodtradenews.com
SUMMARY:Foundation Fighting Blindness Visionary Award Ceremony
DESCRIPTION:Allegiance Retail Services President and COO Joseph Fantozzi is being tapped for the Visionary Award.
URL:https://foodtradenews.com/event/foundation-fighting-blindness-visionary-award-ceremony/
LOCATION:Gustavino’s\, 409 E 59th St\, New York\, NY\, 10022\, United States
END:VEVENT
BEGIN:VEVENT
DTSTART;TZID=America/New_York:20260519T080000
DTEND;TZID=America/New_York:20260519T170000
DTSTAMP:20260424T042002
CREATED:20260227T182604Z
LAST-MODIFIED:20260227T182604Z
UID:575321-1779177600-1779210000@foodtradenews.com
SUMMARY:Eastern Produce Council Annual NJDA BBQ
DESCRIPTION:
URL:https://foodtradenews.com/event/eastern-produce-council-annual-njda-bbq/
LOCATION:Demarest Farms\, 244 Wiermus Rd\, Hillsdale\, NJ\, 07642\, United States
ORGANIZER;CN="Eastern Produce Council":MAILTO:info@easternproducecouncil.com
END:VEVENT
BEGIN:VEVENT
DTSTART;TZID=America/New_York:20260520T173000
DTEND;TZID=America/New_York:20260520T230000
DTSTAMP:20260424T042002
CREATED:20251124T201951Z
LAST-MODIFIED:20260112T162946Z
UID:574321-1779298200-1779318000@foodtradenews.com
SUMMARY:NJFC Night of Distinction
DESCRIPTION:
URL:https://foodtradenews.com/event/night-of-distinction/
LOCATION:The Palace At Somerset Park\, 333 Davidson Ave\, Somerset\, NJ\, 08873\, United States
END:VEVENT
BEGIN:VEVENT
DTSTART;VALUE=DATE:20260607
DTEND;VALUE=DATE:20260610
DTSTAMP:20260424T042002
CREATED:20250825T195854Z
LAST-MODIFIED:20250825T195930Z
UID:573664-1780790400-1781049599@foodtradenews.com
SUMMARY:IDDBA 2026 Dairy-Deli-Bakery
DESCRIPTION:
URL:https://foodtradenews.com/event/iddba-2026-dairy-deli-bakery/
LOCATION:Orange County Convention Center\, 9800 International Drive\, Orlando\, FL\, 32819
ORGANIZER;CN="IDDBA":MAILTO:iddba@iddba.org
END:VEVENT
BEGIN:VEVENT
DTSTART;TZID=America/New_York:20260609T080000
DTEND;TZID=America/New_York:20260609T170000
DTSTAMP:20260424T042002
CREATED:20260227T182411Z
LAST-MODIFIED:20260227T182411Z
UID:575320-1780992000-1781024400@foodtradenews.com
SUMMARY:Eastern Produce Council Annual Golf Outing
DESCRIPTION:
URL:https://foodtradenews.com/event/eastern-produce-council-annual-golf-outing/
LOCATION:Fox Hollow Golf Club Branchburg NJ\, 59 Fox Chase Run\, Branchburg\, NJ\, 08876\, United States
ORGANIZER;CN="Eastern Produce Council":MAILTO:info@easternproducecouncil.com
END:VEVENT
BEGIN:VEVENT
DTSTART;TZID=America/New_York:20260609T080000
DTEND;TZID=America/New_York:20260609T170000
DTSTAMP:20260424T042002
CREATED:20260227T183733Z
LAST-MODIFIED:20260227T183733Z
UID:575328-1780992000-1781024400@foodtradenews.com
SUMMARY:Eastern Produce Council Annual Golf Outing
DESCRIPTION:Register here
URL:https://foodtradenews.com/event/eastern-produce-council-annual-golf-outing-2/
LOCATION:Fox Hollow Golf Club Branchburg NJ\, 59 Fox Chase Run\, Branchburg\, NJ\, 08876\, United States
ORGANIZER;CN="Eastern Produce Council":MAILTO:info@easternproducecouncil.com
END:VEVENT
BEGIN:VEVENT
DTSTART;TZID=America/New_York:20260617T080000
DTEND;TZID=America/New_York:20260617T170000
DTSTAMP:20260424T042002
CREATED:20260227T182248Z
LAST-MODIFIED:20260227T182248Z
UID:575318-1781683200-1781715600@foodtradenews.com
SUMMARY:National Supermarket Association Scholarship Awards
DESCRIPTION:
URL:https://foodtradenews.com/event/national-supermarket-association-scholarship-awards/
LOCATION:National Supermarket Association HQ\, 30-50 Whitestone Expy suite 301\, Flushing\, NY\, 11354\, United States
ORGANIZER;CN="National Supermarket Association":MAILTO:denise.diaz@nsaglobal.org
END:VEVENT
BEGIN:VEVENT
DTSTART;VALUE=DATE:20260628
DTEND;VALUE=DATE:20260701
DTSTAMP:20260424T042002
CREATED:20250825T200026Z
LAST-MODIFIED:20250825T200131Z
UID:573666-1782604800-1782863999@foodtradenews.com
SUMMARY:Summer Fancy Food Show 2026
DESCRIPTION:
URL:https://foodtradenews.com/event/summer-fancy-food-show-2026/
LOCATION:Jacob Javits Convention Center\, 429 11th Ave.\, New York\, NY\, 10019
END:VEVENT
BEGIN:VEVENT
DTSTART;TZID=America/New_York:20260712T170000
DTEND;TZID=America/New_York:20260712T220000
DTSTAMP:20260424T042002
CREATED:20260319T172817Z
LAST-MODIFIED:20260319T172817Z
UID:575467-1783875600-1783893600@foodtradenews.com
SUMMARY:Ahold Delhaize USA Pre-Golf Outing Recognition Dinner
DESCRIPTION:VIP reception begins at 5 PM EDT followed by networking and dinner at 6 PM. The program begins at 7:30 PM\, dessert and networking to follow at 8 PM. Dress is business casual.
URL:https://foodtradenews.com/event/ahold-delhaize-usa-pre-golf-outing-recognition-dinner/
LOCATION:Hershey Lodge\, 325 University Dr.\, Harrisburg\, PA\, 17033\, United States
END:VEVENT
BEGIN:VEVENT
DTSTART;TZID=America/New_York:20260713T073000
DTEND;TZID=America/New_York:20260713T170000
DTSTAMP:20260424T042002
CREATED:20260319T172629Z
LAST-MODIFIED:20260319T172629Z
UID:575464-1783927800-1783962000@foodtradenews.com
SUMMARY:Ahold Delhaize USA Our Family Golf Outing
DESCRIPTION:The ADUSA Our Family golf outing will be held July 13\, 2026\, on 11 golf courses throughout Central Pennsylvania. (The pre-golf recognition dinner will be held the day before\, Sunday July 12\, at Hershey Lodge and Convention Center [see separate Trade Calendar entry].) Breakfast and registration are from 7:30 AM to 9 AM EDT\, followed by a shotgun start. Scramble format.
URL:https://foodtradenews.com/event/ahold-delhaize-usa-our-family-golf-outing/
LOCATION:Various Central PA Golf Courses\, N/A\, N/A\, PA\, N/A\, United States
END:VEVENT
BEGIN:VEVENT
DTSTART;TZID=America/New_York:20260714T080000
DTEND;TZID=America/New_York:20260714T170000
DTSTAMP:20260424T042002
CREATED:20260420T145029Z
LAST-MODIFIED:20260420T145029Z
UID:575746-1784016000-1784048400@foodtradenews.com
SUMMARY:4th Annual Food Industry Alliance of NY State (FIANY) Upstate Golf Outing
DESCRIPTION:For more information email Laura Mastriani at laura@fiany.com
URL:https://foodtradenews.com/event/4th-annual-food-industry-alliance-of-ny-state-fiany-upstate-golf-outing/
LOCATION:Van Patten Golf Club\, 924 Main St\, Clifton Park\, NY\, 12065\, United States
ORGANIZER;CN="Food Industry Alliance of New York State":MAILTO:laura@fiany.com
END:VEVENT
BEGIN:VEVENT
DTSTART;TZID=America/New_York:20260715T080000
DTEND;TZID=America/New_York:20260716T170000
DTSTAMP:20260424T042002
CREATED:20260227T181831Z
LAST-MODIFIED:20260227T181831Z
UID:575317-1784102400-1784221200@foodtradenews.com
SUMMARY:National Supermarket Association Annual Trade Show
DESCRIPTION:
URL:https://foodtradenews.com/event/national-supermarket-association-annual-trade-show/
LOCATION:Meadowlands Expo Center\, 355 Plaza Dr.\, Seacaucus\, NJ\, 07094\, United States
ORGANIZER;CN="National Supermarket Association":MAILTO:denise.diaz@nsaglobal.org
END:VEVENT
BEGIN:VEVENT
DTSTART;TZID=America/New_York:20260810T080000
DTEND;TZID=America/New_York:20260810T170000
DTSTAMP:20260424T042002
CREATED:20260420T145148Z
LAST-MODIFIED:20260420T145148Z
UID:575748-1786348800-1786381200@foodtradenews.com
SUMMARY:Catholic Institute of the Food Industry (CIFI) Annual Charity Golf Outing
DESCRIPTION:For info email Jim Gorman at jgorman@caferolie.com
URL:https://foodtradenews.com/event/catholic-institute-of-the-food-industry-cifi-annual-charity-golf-outing/
LOCATION:Garden City Country Club\, 206 Stewart Ave\, Long Island\, NY\, 11530\, United States
ORGANIZER;CN="Catholic Institute of the Food Industry":MAILTO:cifi1946@outlook.com
END:VEVENT
BEGIN:VEVENT
DTSTART;TZID=America/New_York:20260813T080000
DTEND;TZID=America/New_York:20260813T170000
DTSTAMP:20260424T042002
CREATED:20260227T181701Z
LAST-MODIFIED:20260227T181701Z
UID:575316-1786608000-1786640400@foodtradenews.com
SUMMARY:ASG Fall Buying Show
DESCRIPTION:
URL:https://foodtradenews.com/event/asg-fall-buying-show-2/
LOCATION:Citi Field\, 123-01 Roosevelt Ave\, Queens\, NJ\, 11368\, United States
ORGANIZER;CN="Associated Supermarket Group":MAILTO:michelle.mendoza@asghq.com
END:VEVENT
BEGIN:VEVENT
DTSTART;TZID=America/New_York:20260817T100000
DTEND;TZID=America/New_York:20260817T170000
DTSTAMP:20260424T042002
CREATED:20251124T202106Z
LAST-MODIFIED:20260112T164019Z
UID:574323-1786960800-1786986000@foodtradenews.com
SUMMARY:NJFC Annual Golf Outing
DESCRIPTION:
URL:https://foodtradenews.com/event/annual-golf-outing/
LOCATION:Forsgate Country Club\, 375 Forsgate Dr\, Monroe Township\, NJ\, 08831
END:VEVENT
BEGIN:VEVENT
DTSTART;TZID=America/New_York:20260915T080000
DTEND;TZID=America/New_York:20260915T170000
DTSTAMP:20260424T042002
CREATED:20260227T181451Z
LAST-MODIFIED:20260227T181451Z
UID:575313-1789459200-1789491600@foodtradenews.com
SUMMARY:Eastern Produce Council MetLife Stadium Tailgate Party
DESCRIPTION:Register here
URL:https://foodtradenews.com/event/eastern-produce-council-metlife-stadium-tailgate-party/
LOCATION:MetLife Stadium\, 1 MetLife Stadium Dr\, East Rutherford\, NJ\, 07073
ORGANIZER;CN="Eastern Produce Council":MAILTO:info@easternproducecouncil.com
END:VEVENT
BEGIN:VEVENT
DTSTART;TZID=America/New_York:20260926T080000
DTEND;TZID=America/New_York:20260926T170000
DTSTAMP:20260424T042002
CREATED:20260227T181315Z
LAST-MODIFIED:20260227T181315Z
UID:575312-1790409600-1790442000@foodtradenews.com
SUMMARY:Eastern Produce Council Joe DeLorenzo Family Apple Picking
DESCRIPTION:Register here
URL:https://foodtradenews.com/event/eastern-produce-council-joe-delorenzo-family-apple-picking/
LOCATION:Melick’s Town Farm\, 170 Oldwick Road\, Oldwick\, NJ\, 08858\, United States
ORGANIZER;CN="Eastern Produce Council":MAILTO:info@easternproducecouncil.com
END:VEVENT
BEGIN:VEVENT
DTSTART;TZID=America/New_York:20260930T083000
DTEND;TZID=America/New_York:20260930T120000
DTSTAMP:20260424T042002
CREATED:20260112T164142Z
LAST-MODIFIED:20260112T164142Z
UID:574783-1790757000-1790769600@foodtradenews.com
SUMMARY:NJFC Good Government Breakfast
DESCRIPTION:
URL:https://foodtradenews.com/event/njfc-good-government-breakfast-3/
LOCATION:Forsgate Country Club\, 375 Forsgate Dr\, Monroe Township\, NJ\, 08831
END:VEVENT
BEGIN:VEVENT
DTSTART;TZID=America/New_York:20261006T080000
DTEND;TZID=America/New_York:20261006T170000
DTSTAMP:20260424T042002
CREATED:20260420T145520Z
LAST-MODIFIED:20260420T145520Z
UID:575750-1791273600-1791306000@foodtradenews.com
SUMMARY:Friends of the Food Industry (FOFI) Annual Fundraiser
DESCRIPTION:For information email Mike Casey at mcasey@casey-communications.com
URL:https://foodtradenews.com/event/friends-of-the-food-industry-fofi-annual-fundraiser/
LOCATION:Hackensack Golf Club\, 880 Soldier Hill Rd\, Emerson\, NJ\, 07630\, United States
END:VEVENT
BEGIN:VEVENT
DTSTART;VALUE=DATE:20261014
DTEND;VALUE=DATE:20261017
DTSTAMP:20260424T042002
CREATED:20250825T200255Z
LAST-MODIFIED:20260324T153024Z
UID:573668-1791936000-1792195199@foodtradenews.com
SUMMARY:IFPA 2026 Global Produce & Floral Show
DESCRIPTION:Wednesday\, October 14: State of the Industry Keynote\, General Sessions and Education Festival\, setting the tone for what’s next;\nThursday and Friday\, October 15–16: Expo and show floor activations focused on discovery\, deal‑making\, and connection;
URL:https://foodtradenews.com/event/ifpa-2026-global-produce-floral-show/
END:VEVENT
BEGIN:VEVENT
DTSTART;VALUE=DATE:20261017
DTEND;VALUE=DATE:20261021
DTSTAMP:20260424T042002
CREATED:20250825T200420Z
LAST-MODIFIED:20250825T200420Z
UID:573670-1792195200-1792540799@foodtradenews.com
SUMMARY:NFRA 2026 Convention
DESCRIPTION:
URL:https://foodtradenews.com/event/nfra-2026-convention/
LOCATION:Gaylord National Resort & Convention Center\, 165 Waterfront Street\, National Harbor\, MD\, 20745\, United States
ORGANIZER;CN="NFRA":MAILTO:nfra@nfraweb.org
END:VEVENT
BEGIN:VEVENT
DTSTART;TZID=America/New_York:20261020T080000
DTEND;TZID=America/New_York:20261020T170000
DTSTAMP:20260424T042002
CREATED:20260420T145654Z
LAST-MODIFIED:20260420T145654Z
UID:575751-1792483200-1792515600@foodtradenews.com
SUMMARY:28th Annual Food Industry Alliance of NY State (FIANY) Gala
DESCRIPTION:For more information email Laura Mastriani at laura@fiany.com
URL:https://foodtradenews.com/event/28th-annual-food-industry-alliance-of-ny-state-fiany-gala/
LOCATION:Glen Island Harbour Club\, 50 Glen Island Park\, New Rochelle\, NY\, 10805
ORGANIZER;CN="Food Industry Alliance of New York State":MAILTO:laura@fiany.com
END:VEVENT
BEGIN:VEVENT
DTSTART;TZID=America/New_York:20261104T080000
DTEND;TZID=America/New_York:20261104T150000
DTSTAMP:20260424T042003
CREATED:20251124T202315Z
LAST-MODIFIED:20260112T163909Z
UID:574325-1793779200-1793804400@foodtradenews.com
SUMMARY:NJFC Loss Prevention Conference/Expo
DESCRIPTION:
URL:https://foodtradenews.com/event/loss-prevention-conference-expo/
LOCATION:Forsgate Country Club\, 375 Forsgate Dr\, Monroe Township\, NJ\, 08831
END:VEVENT
BEGIN:VEVENT
DTSTART;TZID=America/New_York:20261117T190000
DTEND;TZID=America/New_York:20261117T233000
DTSTAMP:20260424T042003
CREATED:20260227T181017Z
LAST-MODIFIED:20260227T181017Z
UID:575309-1794942000-1794958200@foodtradenews.com
SUMMARY:National Supermarket Association Anniversary Gala
DESCRIPTION:
URL:https://foodtradenews.com/event/national-supermarket-association-anniversary-gala/
LOCATION:Mohegan Sun Resort & Casino\, 1 Mohegan Sun Blvd.\, Uncasville\, CT\, 06382\, United States
ORGANIZER;CN="National Supermarket Association":MAILTO:denise.diaz@nsaglobal.org
END:VEVENT
BEGIN:VEVENT
DTSTART;VALUE=DATE:20261202
DTEND;VALUE=DATE:20261205
DTSTAMP:20260424T042003
CREATED:20250828T212311Z
LAST-MODIFIED:20260319T170659Z
UID:573703-1796169600-1796428799@foodtradenews.com
SUMMARY:17th Annual NY Produce Show & Conference (Eastern Produce Council)
DESCRIPTION:Register here
URL:https://foodtradenews.com/event/2026-ny-produce-show/
LOCATION:Jacob Javits Convention Center\, 429 11th Ave.\, New York\, NY\, 10019
END:VEVENT
BEGIN:VEVENT
DTSTART;TZID=America/New_York:20261204T190000
DTEND;TZID=America/New_York:20261204T230000
DTSTAMP:20260424T042003
CREATED:20260112T163803Z
LAST-MODIFIED:20260112T163803Z
UID:574781-1796410800-1796425200@foodtradenews.com
SUMMARY:ASG Annual Holiday Dinner
DESCRIPTION:
URL:https://foodtradenews.com/event/asg-annual-holiday-dinner-2/
LOCATION:Garden City Hotel\, 45 7th St.\, New York\, NY\, 11530\, United States
ORGANIZER;CN="Associated Supermarket Group":MAILTO:michelle.mendoza@asghq.com
END:VEVENT
END:VCALENDAR