BEGIN:VCALENDAR
VERSION:2.0
PRODID:-//Food Trade News &amp; Food World - ECPv6.15.18//NONSGML v1.0//EN
CALSCALE:GREGORIAN
METHOD:PUBLISH
X-ORIGINAL-URL:https://foodtradenews.com
X-WR-CALDESC:Events for Food Trade News &amp; Food World
REFRESH-INTERVAL;VALUE=DURATION:PT1H
X-Robots-Tag:noindex
X-PUBLISHED-TTL:PT1H
BEGIN:VTIMEZONE
TZID:America/New_York
BEGIN:DAYLIGHT
TZOFFSETFROM:-0500
TZOFFSETTO:-0400
TZNAME:EDT
DTSTART:20180311T070000
END:DAYLIGHT
BEGIN:STANDARD
TZOFFSETFROM:-0400
TZOFFSETTO:-0500
TZNAME:EST
DTSTART:20181104T060000
END:STANDARD
BEGIN:DAYLIGHT
TZOFFSETFROM:-0500
TZOFFSETTO:-0400
TZNAME:EDT
DTSTART:20190310T070000
END:DAYLIGHT
BEGIN:STANDARD
TZOFFSETFROM:-0400
TZOFFSETTO:-0500
TZNAME:EST
DTSTART:20191103T060000
END:STANDARD
BEGIN:DAYLIGHT
TZOFFSETFROM:-0500
TZOFFSETTO:-0400
TZNAME:EDT
DTSTART:20200308T070000
END:DAYLIGHT
BEGIN:STANDARD
TZOFFSETFROM:-0400
TZOFFSETTO:-0500
TZNAME:EST
DTSTART:20201101T060000
END:STANDARD
END:VTIMEZONE
BEGIN:VEVENT
DTSTART;VALUE=DATE:20190601
DTEND;VALUE=DATE:20190602
DTSTAMP:20260420T114140
CREATED:20190430T210202Z
LAST-MODIFIED:20190430T210202Z
UID:570047-1559347200-1559433599@foodtradenews.com
SUMMARY:The 44th Annual Eastern Produce Council Golf Outing
DESCRIPTION:
URL:https://foodtradenews.com/event/the-44th-annual-eastern-produce-council-golf-outing/
LOCATION:Royce Brook Golf Club\, 201 Hamilton Rd\, Hillsborough\,\, NJ\, 08844
ORGANIZER;CN="Eastern Produce Council":MAILTO:info@easternproducecouncil.com
END:VEVENT
BEGIN:VEVENT
DTSTART;VALUE=DATE:20190602
DTEND;VALUE=DATE:20190605
DTSTAMP:20260420T114140
CREATED:20190430T191259Z
LAST-MODIFIED:20190430T191259Z
UID:570038-1559433600-1559692799@foodtradenews.com
SUMMARY:2019 IDDBA Dairy-Deli-Bakery Expo
DESCRIPTION:
URL:https://foodtradenews.com/event/2019-iddba-dairy-deli-bakery-expo/
LOCATION:Orange County Convention Center\, 9800 International Drive\, Orlando\, FL\, 32819
END:VEVENT
BEGIN:VEVENT
DTSTART;TZID=America/New_York:20190605T090000
DTEND;TZID=America/New_York:20190605T163000
DTSTAMP:20260420T114140
CREATED:20190512T044838Z
LAST-MODIFIED:20190512T044838Z
UID:570062-1559725200-1559752200@foodtradenews.com
SUMMARY:The Children’s Cancer Foundation 4th Annual Research Symposium - “Solving Childhood Cancer through Collaboration”
DESCRIPTION:
URL:https://foodtradenews.com/event/the-childrens-cancer-foundation-4th-annual-research-symposium-solving-childhood-cancer-through-collaboration/
LOCATION:Giant Food Headquarters\, 8301 Professional Pl\, #115\, Landover\, MD\, 20785
END:VEVENT
BEGIN:VEVENT
DTSTART;VALUE=DATE:20190610
DTEND;VALUE=DATE:20190611
DTSTAMP:20260420T114140
CREATED:20190430T193326Z
LAST-MODIFIED:20190430T193326Z
UID:570039-1560124800-1560211199@foodtradenews.com
SUMMARY:Boyer's Markets Annual Golf Outing
DESCRIPTION:
URL:https://foodtradenews.com/event/boyers-markets-annual-golf-outing/
LOCATION:NY
END:VEVENT
BEGIN:VEVENT
DTSTART;VALUE=DATE:20190610
DTEND;VALUE=DATE:20190611
DTSTAMP:20260420T114140
CREATED:20190430T194001Z
LAST-MODIFIED:20190430T194001Z
UID:570040-1560124800-1560211199@foodtradenews.com
SUMMARY:Family Owned Markets Charity Golf Outing
DESCRIPTION:Family Owned Markets will host its Heather “Kappesser” Diguardi Memorial Charity golf outing at Foxchase Golf Club in Stevens\, PA. Registration starts at 11:15 a.m. followed by shotgun start at 12:45 p.m.
URL:https://foodtradenews.com/event/family-owned-markets-charity-golf-outing/
LOCATION:Foxchase Golf Club\, 300 Stevens Road\, Stevens\, PA\, 17578
ORGANIZER;CN="Jim Kidwell":MAILTO:jim.kidwell@familyownedmarkets.com
END:VEVENT
BEGIN:VEVENT
DTSTART;VALUE=DATE:20190611
DTEND;VALUE=DATE:20190612
DTSTAMP:20260420T114140
CREATED:20190430T210830Z
LAST-MODIFIED:20190430T210830Z
UID:570048-1560211200-1560297599@foodtradenews.com
SUMMARY:Annual National Supermarket Association Golf Outing
DESCRIPTION:
URL:https://foodtradenews.com/event/annual-nsa-golf-outing/
LOCATION:Montclair Golf Club\, 25 Prospect Avenue\, West Orange\, NJ\, 07052
ORGANIZER;CN="National Supermarket Association":MAILTO:denise.diaz@nsaglobal.org
END:VEVENT
BEGIN:VEVENT
DTSTART;VALUE=DATE:20190620
DTEND;VALUE=DATE:20190621
DTSTAMP:20260420T114140
CREATED:20190430T211823Z
LAST-MODIFIED:20190430T211823Z
UID:570050-1560988800-1561075199@foodtradenews.com
SUMMARY:Allegiance Retail Services Annual Selling Show
DESCRIPTION:
URL:https://foodtradenews.com/event/allegiance-retail-services-annual-selling-show/
LOCATION:Meadowlands Expo Center\, 355 Plaza Dr.\, Seacaucus\, NJ\, 07094\, United States
ORGANIZER;CN="Steve Hungerbuhler":MAILTO:shunger@allegiancehq.com
END:VEVENT
BEGIN:VEVENT
DTSTART;VALUE=DATE:20190623
DTEND;VALUE=DATE:20190626
DTSTAMP:20260420T114140
CREATED:20190430T194742Z
LAST-MODIFIED:20190430T194742Z
UID:570041-1561248000-1561507199@foodtradenews.com
SUMMARY:Summer Fancy Food Show
DESCRIPTION:
URL:https://foodtradenews.com/event/summer-fancy-food-show/
LOCATION:Jacob K. Javits Convention Center\, 655 W 34th St\, New York\, NY\, 10001
END:VEVENT
BEGIN:VEVENT
DTSTART;VALUE=DATE:20190624
DTEND;VALUE=DATE:20190625
DTSTAMP:20260420T114140
CREATED:20190430T211629Z
LAST-MODIFIED:20190430T211629Z
UID:570049-1561334400-1561420799@foodtradenews.com
SUMMARY:The FIA Jack Duffy Golf Classic
DESCRIPTION:
URL:https://foodtradenews.com/event/the-fia-jack-duffy-golf-classic/
LOCATION:Scarsdale Golf Club\, 1 Club Way\, Hartsdale\, NY\, 10530
ORGANIZER;CN="Food Industry Alliance of New York State":MAILTO:laura@fiany.com
END:VEVENT
END:VCALENDAR