BEGIN:VCALENDAR
VERSION:2.0
PRODID:-//Food Trade News &amp; Food World - ECPv6.15.18//NONSGML v1.0//EN
CALSCALE:GREGORIAN
METHOD:PUBLISH
X-ORIGINAL-URL:https://foodtradenews.com
X-WR-CALDESC:Events for Food Trade News &amp; Food World
REFRESH-INTERVAL;VALUE=DURATION:PT1H
X-Robots-Tag:noindex
X-PUBLISHED-TTL:PT1H
BEGIN:VTIMEZONE
TZID:America/New_York
BEGIN:DAYLIGHT
TZOFFSETFROM:-0500
TZOFFSETTO:-0400
TZNAME:EDT
DTSTART:20180311T070000
END:DAYLIGHT
BEGIN:STANDARD
TZOFFSETFROM:-0400
TZOFFSETTO:-0500
TZNAME:EST
DTSTART:20181104T060000
END:STANDARD
BEGIN:DAYLIGHT
TZOFFSETFROM:-0500
TZOFFSETTO:-0400
TZNAME:EDT
DTSTART:20190310T070000
END:DAYLIGHT
BEGIN:STANDARD
TZOFFSETFROM:-0400
TZOFFSETTO:-0500
TZNAME:EST
DTSTART:20191103T060000
END:STANDARD
BEGIN:DAYLIGHT
TZOFFSETFROM:-0500
TZOFFSETTO:-0400
TZNAME:EDT
DTSTART:20200308T070000
END:DAYLIGHT
BEGIN:STANDARD
TZOFFSETFROM:-0400
TZOFFSETTO:-0500
TZNAME:EST
DTSTART:20201101T060000
END:STANDARD
END:VTIMEZONE
BEGIN:VEVENT
DTSTART;VALUE=DATE:20190801
DTEND;VALUE=DATE:20190802
DTSTAMP:20260420T084116
CREATED:20190718T231718Z
LAST-MODIFIED:20190718T231718Z
UID:570071-1564617600-1564703999@foodtradenews.com
SUMMARY:Island Harvest Annual Golf Outing
DESCRIPTION:
URL:https://foodtradenews.com/event/island-harvest-annual-golf-outing/
LOCATION:The Creek\, 1 Horse Hollow Rd\, Locust Valley\, NY\, 11560
ORGANIZER;CN="Island Harvest":MAILTO:email-stacy@islandharvest.org
END:VEVENT
BEGIN:VEVENT
DTSTART;VALUE=DATE:20190808
DTEND;VALUE=DATE:20190809
DTSTAMP:20260420T084116
CREATED:20190718T232020Z
LAST-MODIFIED:20190718T232020Z
UID:570073-1565222400-1565308799@foodtradenews.com
SUMMARY:King's Food Market Annual Charity Golf Outing
DESCRIPTION:
URL:https://foodtradenews.com/event/kings-food-market-annual-charity-golf-outing/
LOCATION:Crystal Springs Resort\, 1 Wild Turkey Way\, Hamburg\, NJ\, 07419
END:VEVENT
BEGIN:VEVENT
DTSTART;VALUE=DATE:20190814
DTEND;VALUE=DATE:20190816
DTSTAMP:20260420T084116
CREATED:20190802T163839Z
LAST-MODIFIED:20190802T163839Z
UID:570077-1565740800-1565913599@foodtradenews.com
SUMMARY:Imperial Distributors Spring Rays Summer Days Spring/Summer 2020 Seasonal Show
DESCRIPTION:
URL:https://foodtradenews.com/event/imperial-distributors-spring-rays-summer-days-spring-summer-2020-seasonal-show/
LOCATION:DCU Center\, 50 Foster St\, Worcester\, MA\, 01608\, United States
END:VEVENT
BEGIN:VEVENT
DTSTART;VALUE=DATE:20190821
DTEND;VALUE=DATE:20190822
DTSTAMP:20260420T084116
CREATED:20190430T213808Z
LAST-MODIFIED:20190430T213808Z
UID:570054-1566345600-1566431999@foodtradenews.com
SUMMARY:Key Food Fall Selling Show
DESCRIPTION:
URL:https://foodtradenews.com/event/key-food-fall-selling-show/
LOCATION:Nassau Veterans Memorial Coliseum\, 1255 Hempstead Turnpike\, Uniondale\, NY\, 11553
END:VEVENT
BEGIN:VEVENT
DTSTART;VALUE=DATE:20190821
DTEND;VALUE=DATE:20190823
DTSTAMP:20260420T084116
CREATED:20190523T213037Z
LAST-MODIFIED:20190523T213037Z
UID:570066-1566345600-1566518399@foodtradenews.com
SUMMARY:C&S New England Fall Food Show
DESCRIPTION:
URL:https://foodtradenews.com/event/cs-new-england-fall-food-show/
LOCATION:Foxwoods Resort Casino\, 350 Trolley Line Blvd\, Mashantucket\, CT\, 06338
END:VEVENT
BEGIN:VEVENT
DTSTART;TZID=America/New_York:20190821T170000
DTEND;TZID=America/New_York:20190821T203000
DTSTAMP:20260420T084116
CREATED:20190718T214643Z
LAST-MODIFIED:20190718T214643Z
UID:570072-1566406800-1566419400@foodtradenews.com
SUMMARY:Network of Executive Women Mid-Atlantic Crabaoke Mixer
DESCRIPTION:The Mid-Atlantic Network of Executive Women will host it’s annual Crabaoke mixer – an event featuring a crab feast and karaoke in a beautiful outdoor setting.
URL:https://foodtradenews.com/event/network-of-executive-women-mid-atlantic-crabaoke-mixer/
LOCATION:Kurtz’s Beach\, 2070 Kurtz Ave\, Pasadena\, MD\, 21122
END:VEVENT
BEGIN:VEVENT
DTSTART;VALUE=DATE:20190828
DTEND;VALUE=DATE:20190829
DTSTAMP:20260420T084116
CREATED:20190807T002725Z
LAST-MODIFIED:20190807T002725Z
UID:570078-1566950400-1567036799@foodtradenews.com
SUMMARY:NSA Trade & Sales Show
DESCRIPTION:
URL:https://foodtradenews.com/event/nsa-trade-sales-show/
LOCATION:Resorts World Casino\, 110-00 Rockaway Blvd\, Jamaica\, 11420\, United States
END:VEVENT
END:VCALENDAR