BEGIN:VCALENDAR
VERSION:2.0
PRODID:-//Food Trade News &amp; Food World - ECPv6.15.18//NONSGML v1.0//EN
CALSCALE:GREGORIAN
METHOD:PUBLISH
X-ORIGINAL-URL:https://foodtradenews.com
X-WR-CALDESC:Events for Food Trade News &amp; Food World
REFRESH-INTERVAL;VALUE=DURATION:PT1H
X-Robots-Tag:noindex
X-PUBLISHED-TTL:PT1H
BEGIN:VTIMEZONE
TZID:America/New_York
BEGIN:DAYLIGHT
TZOFFSETFROM:-0500
TZOFFSETTO:-0400
TZNAME:EDT
DTSTART:20180311T070000
END:DAYLIGHT
BEGIN:STANDARD
TZOFFSETFROM:-0400
TZOFFSETTO:-0500
TZNAME:EST
DTSTART:20181104T060000
END:STANDARD
BEGIN:DAYLIGHT
TZOFFSETFROM:-0500
TZOFFSETTO:-0400
TZNAME:EDT
DTSTART:20190310T070000
END:DAYLIGHT
BEGIN:STANDARD
TZOFFSETFROM:-0400
TZOFFSETTO:-0500
TZNAME:EST
DTSTART:20191103T060000
END:STANDARD
BEGIN:DAYLIGHT
TZOFFSETFROM:-0500
TZOFFSETTO:-0400
TZNAME:EDT
DTSTART:20200308T070000
END:DAYLIGHT
BEGIN:STANDARD
TZOFFSETFROM:-0400
TZOFFSETTO:-0500
TZNAME:EST
DTSTART:20201101T060000
END:STANDARD
END:VTIMEZONE
BEGIN:VEVENT
DTSTART;VALUE=DATE:20191001
DTEND;VALUE=DATE:20191003
DTSTAMP:20260420T040200
CREATED:20190523T213328Z
LAST-MODIFIED:20190523T213328Z
UID:570067-1569888000-1570060799@foodtradenews.com
SUMMARY:C&S Services Expo
DESCRIPTION:
URL:https://foodtradenews.com/event/cs-services-expo/
LOCATION:Valley Forge Casino Resort\, 1160 1st Ave\, King of Prussia\, PA\, 19406
END:VEVENT
BEGIN:VEVENT
DTSTART;TZID=America/New_York:20191002T083000
DTEND;TZID=America/New_York:20191002T103000
DTSTAMP:20260420T040200
CREATED:20190501T004845Z
LAST-MODIFIED:20190501T004845Z
UID:570057-1570005000-1570012200@foodtradenews.com
SUMMARY:NJFC Good Governance Breakfast
DESCRIPTION:The New Jersey Food Council will host its annual Good Government breakfast where attendees will break bread with state legislators and business leaders for the presentation of the Good Government and Outstanding Legislator of the Year awards. \n 
URL:https://foodtradenews.com/event/njfc-good-governance-breakfast/
LOCATION:Forsgate Country Club\, 375 Forsgate Dr\, Monroe Township\, NJ\, 08831
END:VEVENT
BEGIN:VEVENT
DTSTART;TZID=America/New_York:20191002T180000
DTEND;TZID=America/New_York:20191002T220000
DTSTAMP:20260420T040200
CREATED:20190501T005749Z
LAST-MODIFIED:20190501T005749Z
UID:570058-1570039200-1570053600@foodtradenews.com
SUMMARY:EPC Dinner: Idaho Potato Commission & Avocados from Mexico
DESCRIPTION:The Eastern Produce Council will host a dinner sponsored by Idaho Potato Commission and Avocados from Mexico. Cocktail hour begins at 6:00 p.m. followed by dinner at 7:00 p.m.
URL:https://foodtradenews.com/event/epc-dinner-idaho-potato-commission-avocados-from-mexico/
LOCATION:MetLife Stadium\, 1 MetLife Stadium Dr\, East Rutherford\, NJ\, 07073
ORGANIZER;CN="Eastern Produce Council":MAILTO:info@easternproducecouncil.com
END:VEVENT
BEGIN:VEVENT
DTSTART;VALUE=DATE:20191003
DTEND;VALUE=DATE:20191004
DTSTAMP:20260420T040200
CREATED:20190827T185210Z
LAST-MODIFIED:20190827T185210Z
UID:570087-1570060800-1570147199@foodtradenews.com
SUMMARY:Robert & Owen Keever\, Jr. Golf Tournament To Benefit The Cystic Fibrosis Foundation
DESCRIPTION:For more information\, call Maggie at 973.656.9200 or email her at mohara@cff.org \n 
URL:https://foodtradenews.com/event/robert-owen-keever-jr-golf-tournament-to-benefit-the-cystic-fibrosis-foundation/
LOCATION:Montclair Golf Club\, 25 Prospect Avenue\, West Orange\, NJ\, 07052
ORGANIZER;CN="Maggie O'Hara":MAILTO:mohara@cff.org
END:VEVENT
BEGIN:VEVENT
DTSTART;TZID=America/New_York:20191003T173000
DTEND;TZID=America/New_York:20191003T210000
DTSTAMP:20260420T040200
CREATED:20190930T223400Z
LAST-MODIFIED:20190930T223400Z
UID:570094-1570123800-1570136400@foodtradenews.com
SUMMARY:MAFTO Fall Membership Dinner Featuring Jeff Brown of Brown's Super Stores
DESCRIPTION:
URL:https://foodtradenews.com/event/mafto-fall-membership-dinner-featuring-jeff-brown-of-browns-super-stores/
LOCATION:Embassy Suites by Hilton Philadelphia Airport\, 9000 Bartram Ave\, Philadelphia\, PA\, 19153\, United States
END:VEVENT
BEGIN:VEVENT
DTSTART;VALUE=DATE:20191008
DTEND;VALUE=DATE:20191010
DTSTAMP:20260420T040200
CREATED:20190603T234845Z
LAST-MODIFIED:20190603T234845Z
UID:570070-1570492800-1570665599@foodtradenews.com
SUMMARY:PFMA 2019 Fall Legislative Conference
DESCRIPTION:
URL:https://foodtradenews.com/event/pfma-2019-fall-legislative-conference/
LOCATION:Radisson Hotel Harrisburg\, 1150 Camp Hill Bypass\, Camp Hill\, PA\, 17011
END:VEVENT
BEGIN:VEVENT
DTSTART;TZID=America/New_York:20191015T080000
DTEND;TZID=America/New_York:20191015T160000
DTSTAMP:20260420T040200
CREATED:20190718T233444Z
LAST-MODIFIED:20190718T233444Z
UID:570076-1571126400-1571155200@foodtradenews.com
SUMMARY:SJU Academy of Food Marketing 14th Annual Food Industry Summit: The Future of the Food Industry
DESCRIPTION:This premier\, one-day industry event welcomes hundreds of executives from manufacturers\, retailers and service providers. Food industry leaders will share insights regarding market trends\, product innovations and new technologies that will significantly effect how you do business. \nLearn about the latest trends in the industry and network with trading partners\, all while supporting the next generation of leaders from the internationally renowned Food Marketing Program at Saint Joseph’s University. \nAll proceeds from this event support scholarships\, experiential learning opportunities\, co-op education\, internships and job placement for Food Marketing students at Saint Joseph’s University. \nTicket Price: $299 per person (parking\, continental breakfast and lunch included)
URL:https://foodtradenews.com/event/sju-academy-of-food-marketing-14th-annual-food-industry-summit-the-future-of-the-food-industry-2/
LOCATION:SJU Mandeville Hall\, 54th and City Avenue\, Philadelphia\, PA\, 19131\, United States
END:VEVENT
BEGIN:VEVENT
DTSTART;VALUE=DATE:20191016
DTEND;VALUE=DATE:20191017
DTSTAMP:20260420T040200
CREATED:20190827T185912Z
LAST-MODIFIED:20190827T185912Z
UID:570088-1571184000-1571270399@foodtradenews.com
SUMMARY:ROI-NJ Food & Beverage Solutions Summit
DESCRIPTION:Insightful summit to discuss trends and changes affecting food retailers and manufacturers in New Jersey. Keynote address by Stew Leonard\, Jr. and three panel discussions. \nFor sponsorship opportunities or to attend\, contact Damon Riccio at 732.895.4542 or email at driccio@roi-nj.com.
URL:https://foodtradenews.com/event/roi-nj-food-beverage-solutions-summit/
LOCATION:Birchwood Manor\, 111 N Jefferson Rd\, Whippany\, NJ\, 07981\, United States
ORGANIZER;CN="ROI-NJ":MAILTO:driccio@roi-nj.com
END:VEVENT
BEGIN:VEVENT
DTSTART;VALUE=DATE:20191017
DTEND;VALUE=DATE:20191020
DTSTAMP:20260420T040200
CREATED:20190430T201312Z
LAST-MODIFIED:20190430T201312Z
UID:570046-1571270400-1571529599@foodtradenews.com
SUMMARY:PMA Fresh Summit Conference & Expo
DESCRIPTION:
URL:https://foodtradenews.com/event/pma-fresh-summit-conference-expo/
LOCATION:Anaheim Convention Center\, 800 W. Katella Ave.\, Anaheim\, CA\, 92802\, United States
END:VEVENT
BEGIN:VEVENT
DTSTART;VALUE=DATE:20191024
DTEND;VALUE=DATE:20191025
DTSTAMP:20260420T040200
CREATED:20190501T010120Z
LAST-MODIFIED:20190501T010120Z
UID:570059-1571875200-1571961599@foodtradenews.com
SUMMARY:Annual FIA Gala
DESCRIPTION:
URL:https://foodtradenews.com/event/annual-fia-red-carpet-banquet/
LOCATION:Glen Island Harbour Club\, 50 Glen Island Park\, New Rochelle\, NY\, 10805
ORGANIZER;CN="Food Industry Alliance of New York State":MAILTO:laura@fiany.com
END:VEVENT
END:VCALENDAR